BEGIN:VCALENDAR
VERSION:2.0
PRODID:-//wassenberg.com.de - ECPv6.15.20//NONSGML v1.0//EN
CALSCALE:GREGORIAN
METHOD:PUBLISH
X-ORIGINAL-URL:https://wassenberg.com.de
X-WR-CALDESC:Veranstaltungen für wassenberg.com.de
REFRESH-INTERVAL;VALUE=DURATION:PT1H
X-Robots-Tag:noindex
X-PUBLISHED-TTL:PT1H
BEGIN:VTIMEZONE
TZID:Europe/Berlin
BEGIN:DAYLIGHT
TZOFFSETFROM:+0100
TZOFFSETTO:+0200
TZNAME:CEST
DTSTART:20250330T010000
END:DAYLIGHT
BEGIN:STANDARD
TZOFFSETFROM:+0200
TZOFFSETTO:+0100
TZNAME:CET
DTSTART:20251026T010000
END:STANDARD
BEGIN:DAYLIGHT
TZOFFSETFROM:+0100
TZOFFSETTO:+0200
TZNAME:CEST
DTSTART:20260329T010000
END:DAYLIGHT
BEGIN:STANDARD
TZOFFSETFROM:+0200
TZOFFSETTO:+0100
TZNAME:CET
DTSTART:20261025T010000
END:STANDARD
BEGIN:DAYLIGHT
TZOFFSETFROM:+0100
TZOFFSETTO:+0200
TZNAME:CEST
DTSTART:20270328T010000
END:DAYLIGHT
BEGIN:STANDARD
TZOFFSETFROM:+0200
TZOFFSETTO:+0100
TZNAME:CET
DTSTART:20271031T010000
END:STANDARD
END:VTIMEZONE
BEGIN:VEVENT
DTSTART;VALUE=DATE:20261201
DTEND;VALUE=DATE:20261202
DTSTAMP:20260424T172530
CREATED:20251020T215311Z
LAST-MODIFIED:20260402T203938Z
UID:12374-1796083200-1796169599@wassenberg.com.de
SUMMARY:Meteorologischer Winterbeginn 2026/2027
DESCRIPTION:In der Meteorologie ist der Winterbeginn immer am 1. Dezember eines Jahres und umfasst somit die Monate Dezember\, Januar und Februar. \nPhänologisch (Pflanzenwuchs) kann der Winterbeginn vom astronomischen erheblich abweichen und wird neben der Land-Meer-Verteilung (maritimes vs. kontinentales Klima) oft durch den Beginn einer dauerhaften Schneedecke markiert. Die Zu- oder Abnahme von Gletschern hängt aber weniger von der winterlichen Schneelage als vom ersten Neuschnee im Herbst ab\, der die Ablation hemmt. \nGenähert teilt man dem Winter auf der Nordhalbkugel die Monate Dezember\, Januar und Februar zu und in der Südhemisphäre den Juni\, Juli und August. An den geografischen Polen herrscht ein halbes Jahr die „Polarnacht“; nahe den Polarkreisen dauert sie einige Tage bis Wochen.\nAstronomisch bzw. kalendarisch beginnt der Winter mit der Wintersonnenwende – dem Zeitpunkt\, zu dem die Sonne senkrecht über dem Wendekreis der anderen Erdhälfte steht und die Tage am kürzesten sind: auf der Nordhemisphäre am 21. oder 22. Dezember und auf der Südhemisphäre am 21. Juni. \nSiehe auch Wikipedia
URL:https://wassenberg.com.de/veranstaltung/meteorologischer-winterbeginn/
LOCATION:Bundesrepublik Deutschland\, Deutschland
CATEGORIES:Kalenderereignisse
ATTACH;FMTTYPE=image/jpeg:https://wassenberg.com.de/wp-content/uploads/2025/10/800_winter_benrath.jpg
END:VEVENT
END:VCALENDAR