BEGIN:VCALENDAR
VERSION:2.0
PRODID:-//wassenberg.com.de - ECPv6.15.20//NONSGML v1.0//EN
CALSCALE:GREGORIAN
METHOD:PUBLISH
X-ORIGINAL-URL:https://wassenberg.com.de
X-WR-CALDESC:Veranstaltungen für wassenberg.com.de
REFRESH-INTERVAL;VALUE=DURATION:PT1H
X-Robots-Tag:noindex
X-PUBLISHED-TTL:PT1H
BEGIN:VTIMEZONE
TZID:Europe/Berlin
BEGIN:DAYLIGHT
TZOFFSETFROM:+0100
TZOFFSETTO:+0200
TZNAME:CEST
DTSTART:20250330T010000
END:DAYLIGHT
BEGIN:STANDARD
TZOFFSETFROM:+0200
TZOFFSETTO:+0100
TZNAME:CET
DTSTART:20251026T010000
END:STANDARD
BEGIN:DAYLIGHT
TZOFFSETFROM:+0100
TZOFFSETTO:+0200
TZNAME:CEST
DTSTART:20260329T010000
END:DAYLIGHT
BEGIN:STANDARD
TZOFFSETFROM:+0200
TZOFFSETTO:+0100
TZNAME:CET
DTSTART:20261025T010000
END:STANDARD
BEGIN:DAYLIGHT
TZOFFSETFROM:+0100
TZOFFSETTO:+0200
TZNAME:CEST
DTSTART:20270328T010000
END:DAYLIGHT
BEGIN:STANDARD
TZOFFSETFROM:+0200
TZOFFSETTO:+0100
TZNAME:CET
DTSTART:20271031T010000
END:STANDARD
END:VTIMEZONE
BEGIN:VEVENT
DTSTART;TZID=Europe/Berlin:20260225T150000
DTEND;TZID=Europe/Berlin:20260225T160000
DTSTAMP:20260422T021725
CREATED:20220704T153533Z
LAST-MODIFIED:20260223T142439Z
UID:9540-1772031600-1772035200@wassenberg.com.de
SUMMARY:Führung durch das Rathaus Düsseldorf
DESCRIPTION:Führung durch das Rathaus Düsseldorf: Treffpunkt ist um 15.00 Uhr das Foyer des Rathauses\, Marktplatz 2. Es wird um eine vorherige telefonische Anmeldung beim Amt für Kommunikation der Landeshauptstadt Düsseldorf\, Ulrike Lück\, Rufnummer 0211-8993131\, gebeten. \nNeben diesen Mittwochsterminen können Führungen für Gruppen gesondert unter der obigen Telefonnummer vereinbart werden. Die Teilnahme ist kostenfrei.
URL:https://wassenberg.com.de/veranstaltung/fuehrung-durch-das-rathaus-duesseldorf/
LOCATION:Rathaus Düsseldorf\, Marktplatz 2\, Düsseldorf\, Nordrhein-Westfalen\, 40213\, Deutschland
CATEGORIES:Kultur
ATTACH;FMTTYPE=image/jpeg:https://wassenberg.com.de/wp-content/uploads/2020/10/800_dus_rathaus_1871.jpg
END:VEVENT
END:VCALENDAR