BEGIN:VCALENDAR
VERSION:2.0
PRODID:-//wassenberg.com.de - ECPv6.15.20//NONSGML v1.0//EN
CALSCALE:GREGORIAN
METHOD:PUBLISH
X-ORIGINAL-URL:https://wassenberg.com.de
X-WR-CALDESC:Veranstaltungen für wassenberg.com.de
REFRESH-INTERVAL;VALUE=DURATION:PT1H
X-Robots-Tag:noindex
X-PUBLISHED-TTL:PT1H
BEGIN:VTIMEZONE
TZID:Europe/Berlin
BEGIN:DAYLIGHT
TZOFFSETFROM:+0100
TZOFFSETTO:+0200
TZNAME:CEST
DTSTART:20240331T010000
END:DAYLIGHT
BEGIN:STANDARD
TZOFFSETFROM:+0200
TZOFFSETTO:+0100
TZNAME:CET
DTSTART:20241027T010000
END:STANDARD
BEGIN:DAYLIGHT
TZOFFSETFROM:+0100
TZOFFSETTO:+0200
TZNAME:CEST
DTSTART:20250330T010000
END:DAYLIGHT
BEGIN:STANDARD
TZOFFSETFROM:+0200
TZOFFSETTO:+0100
TZNAME:CET
DTSTART:20251026T010000
END:STANDARD
BEGIN:DAYLIGHT
TZOFFSETFROM:+0100
TZOFFSETTO:+0200
TZNAME:CEST
DTSTART:20260329T010000
END:DAYLIGHT
BEGIN:STANDARD
TZOFFSETFROM:+0200
TZOFFSETTO:+0100
TZNAME:CET
DTSTART:20261025T010000
END:STANDARD
END:VTIMEZONE
BEGIN:VEVENT
DTSTART;TZID=Europe/Berlin:20251026T020000
DTEND;TZID=Europe/Berlin:20251026T030000
DTSTAMP:20260422T093054
CREATED:20251022T211528Z
LAST-MODIFIED:20251022T211528Z
UID:12382-1761444000-1761447600@wassenberg.com.de
SUMMARY:Rheinbahn: Fahrplan zur Zeitumstellung auf Normalzeit
DESCRIPTION:Die Nacht von Samstag auf Sonntag ist eine Stunde länger – denn am Sonntag\, 26. Oktober\, um 3 Uhr\, werden die Uhren auf 2 Uhr zurückgestellt. Die Umstellung auf die Winterzeit wirkt sich auch auf den Fahrplan der Rheinbahn aus: Betroffen sind alle NachtExpress-Linien (NE1 bis NE8)\, die DiscoLinien DL1\, DL4\, DL5 und DL6\, die U-Bahn-Linien U72\, U75\, U76 und U79 sowie die Buslinien O1\, SB50\, 722\, 730\, 743\, 746\, 761\, 770\, 773\, 778\, 784\, 785\, 830 und 839. Nach der Zeitumstellung wiederholen diese Linien die Fahrten noch einmal im selben Takt.
URL:https://wassenberg.com.de/veranstaltung/rheinbahn-fahrplan-zeitumstellung-normalzeit/
LOCATION:Düsseldorf\, Düsseldorf\, Nordrhein-Westfalen\, 40200\, Deutschland
CATEGORIES:Kalenderereignisse
ATTACH;FMTTYPE=image/jpeg:https://wassenberg.com.de/wp-content/uploads/2020/11/800_rheinbahn_U79.jpg
END:VEVENT
END:VCALENDAR