BEGIN:VCALENDAR
VERSION:2.0
PRODID:-//wassenberg.com.de - ECPv6.15.20//NONSGML v1.0//EN
CALSCALE:GREGORIAN
METHOD:PUBLISH
X-WR-CALNAME:wassenberg.com.de
X-ORIGINAL-URL:https://wassenberg.com.de
X-WR-CALDESC:Veranstaltungen für wassenberg.com.de
REFRESH-INTERVAL;VALUE=DURATION:PT1H
X-Robots-Tag:noindex
X-PUBLISHED-TTL:PT1H
BEGIN:VTIMEZONE
TZID:Europe/Berlin
BEGIN:DAYLIGHT
TZOFFSETFROM:+0100
TZOFFSETTO:+0200
TZNAME:CEST
DTSTART:20240331T010000
END:DAYLIGHT
BEGIN:STANDARD
TZOFFSETFROM:+0200
TZOFFSETTO:+0100
TZNAME:CET
DTSTART:20241027T010000
END:STANDARD
BEGIN:DAYLIGHT
TZOFFSETFROM:+0100
TZOFFSETTO:+0200
TZNAME:CEST
DTSTART:20250330T010000
END:DAYLIGHT
BEGIN:STANDARD
TZOFFSETFROM:+0200
TZOFFSETTO:+0100
TZNAME:CET
DTSTART:20251026T010000
END:STANDARD
BEGIN:DAYLIGHT
TZOFFSETFROM:+0100
TZOFFSETTO:+0200
TZNAME:CEST
DTSTART:20260329T010000
END:DAYLIGHT
BEGIN:STANDARD
TZOFFSETFROM:+0200
TZOFFSETTO:+0100
TZNAME:CET
DTSTART:20261025T010000
END:STANDARD
END:VTIMEZONE
BEGIN:VEVENT
DTSTART;TZID=Europe/Berlin:20250914T080000
DTEND;TZID=Europe/Berlin:20250914T180000
DTSTAMP:20260422T090901
CREATED:20240925T143316Z
LAST-MODIFIED:20250815T202042Z
UID:11393-1757836800-1757872800@wassenberg.com.de
SUMMARY:Kommunalwahlen 2025 NRW (Update)
DESCRIPTION:Das NRW-Innenministerium unter Herbert Reul hat den Termin für die Kommunalwahlen 2025 in Nordrhein-Westfalen bekannt gegeben. Der Wahlgang findet am Sonntag\, den 14. September 2025 statt. Zeitgleich werden auch die Oberbürgermeister gewählt. \nDer Termin wurde so gewählt\, damit bei einer eventuellen Stichwahl um den Oberbürgermeisterposten der Stichwahltag\, der 14 Tage nach dem ersten Wahltermin liegen muss\, nicht in die Herbstferien fällt\, wie es bei einer Wahl am Tag der Bundestagswahl (28. September 2025) der Fall gewesen wäre. \nUpdate 15. August 2025: Ab sofort können alle Wahlberechtigten der Kommunal- und Integrationsratswahl ihre Stimme per Briefwahl direkt vor Ort abgeben. Dafür stehen zwei Anlaufstellen bereit: das Amt für Statistik und Wahlen in der Mecumstraße 10 in Düsseldorf-Bilk sowie das Briefwahlbüro im ehemaligen Zentralbibliotheksgebäude am Bertha-von Suttner-Platz 1\, direkt am Hauptbahnhof. \nDie Öffnungszeiten sind montags bis mittwochs von 8 bis 16 Uhr\, donnerstags von 8 bis 18 Uhr und freitags von 8 bis 15 Uhr. \nFür die Beantragung von Briefwahlunterlagen und die Stimmabgabe vor Ort ist ein gültiges Ausweisdokument (Personalausweis oder Reisepass) mitzubringen. Nach Möglichkeit sollte zudem die Wahlbenachrichtigung vorgelegt werden. Die Wahlbenachrichtigungen werden derzeit zugestellt. \nUpdate 7. August 2025: Am Sonntag\, 14. September 2025\, finden in Düsseldorf die Kommunalwahl und die Integrationsratswahl statt. Insgesamt 470.366 Wahlberechtigte sind aufgerufen\, den Stadtrat\, die Bezirksvertretungen sowie die Oberbürgermeisterin oder den Oberbürgermeister zu wählen. Parallel dazu können 209.273 Wahlberechtigte ihre Vertreterinnen und Vertreter für den Integrationsrat wählen. \nAb dem 8. August werden die ersten Wahlbenachrichtigungen verschickt. Der Versand wird spätestens bis zum 24. August abgeschlossen sein. \nWahlräume und Barrierefreiheit\nFür die Kommunalwahl stehen in der Landeshauptstadt insgesamt 305 Wahlräume zur Verfügung\, davon 288 in städtischen Schulen und 17 in weiteren öffentlichen Gebäuden. Bereits 238 der Wahlräume – rund 78 Prozent – sind rollstuhlgerecht zugänglich. Ob ein Wahlraum barrierefrei ist\, ist auf der Wahlbenachrichtigung vermerkt. \nFür die Integrationsratswahl werden 45 Wahlräume eingerichtet\, davon 42 in Schulen und drei in weiteren Gebäuden; 28 davon sind für Rollstuhlfahrende geeignet. \nBriefwahl beantragen: www.duesseldorf.de/briefwahlantrag \nTitelbild: Symbolfoto Kommunalwahl 2021
URL:https://wassenberg.com.de/veranstaltung/kommunalwahlen-2025-nrw/
LOCATION:Nordrhein-Westfalen
CATEGORIES:Wahlen
ATTACH;FMTTYPE=image/jpeg:https://wassenberg.com.de/wp-content/uploads/2024/09/800_briefwahl_2021.jpg
END:VEVENT
BEGIN:VEVENT
DTSTART;TZID=Europe/Berlin:20250928T080000
DTEND;TZID=Europe/Berlin:20250928T180000
DTSTAMP:20260422T090901
CREATED:20250924T220056Z
LAST-MODIFIED:20250924T220505Z
UID:12288-1759046400-1759082400@wassenberg.com.de
SUMMARY:Oberbürgermeister-Stichwahl 2025 Düsseldorf
DESCRIPTION:Zur Oberbürgermeister-Stichwahl 2025 zwischen Dr. Stephan Keller (CDU) und Clara Gerlach (GRÜNE) sind rund 470.000 Wahlberechtigte zur Stimmabgabe aufgerufen. Rund 3.000 Wahlhelfende werden im Einsatz sein. \nAm Sonntag\, 28. September 2025\, sind in Düsseldorf rund 470.000 Wahlberechtigte zur Oberbürgermeister-Stichwahl  2025 zwischen Dr. Stephan Keller (CDU) und Clara Gerlach (GRÜNE) aufgerufen. Am Wahltag sind von 8 bis 18 Uhr dieselben 305 Wahlräume im gesamten Stadtgebiet geöffnet\, die bereits für die Kommunalwahl am 14. September 2025 genutzt wurden. \nBis einschließlich Dienstag\, 23. September\, wurden über 120.000 Briefwahlanträge gestellt und bearbeitet. Wer noch per Briefwahl wählen möchte\, muss die Unterlagen bis spätestens Freitag\, 26. September 2025\, 15 Uhr\, beantragt haben. In Ausnahmefällen – etwa bei einer plötzlichen und nachgewiesenen Erkrankung – kann ein Briefwahlantrag noch bis Sonntag\, 28. September\, 15 Uhr\, gestellt werden. \nWer seine Briefwahlunterlagen vorliegen hat\, sollte diese spätestens am Mittwoch\, 24. September\, zurückschicken\, da alle roten Wahlbriefe spätestens am Wahlsonntag um 16 Uhr beim Amt für Statistik und Wahlen in der Mecumstraße 10 eingegangen sein müssen. Später eintreffende Wahlbriefe dürfen nicht berücksichtigt werden. Die Abgabe ist auch direkt beim Amt für Statistik und Wahlen möglich. Bis Samstagnacht (27. September) ist auch die Abgabe durch Einwurf in die Briefkästen der Bürgerbüros möglich\, diese werden wie gewohnt am Wahlwochenende geleert. \nFalls Briefwahlunterlagen nicht zugegangen sind oder diese verloren gegangen sind\, muss dies zwingend beim Amt für Statistik und Wahlen bis spätestens Samstag\, 27. September 2025\, 12 Uhr\, beanstandet und ein neuer Wahlschein beantragt werden\, andernfalls kann die Stimme weder per Brief noch im Wahlraum abgeben werden. \nTitelbild: Symbolfoto \nQuelle: Stadt Düsseldorf
URL:https://wassenberg.com.de/veranstaltung/oberbuergermeister-stichwahl-duesseldorf/
LOCATION:Nordrhein-Westfalen
CATEGORIES:Wahlen
ATTACH;FMTTYPE=image/jpeg:https://wassenberg.com.de/wp-content/uploads/2024/09/800_briefwahl_2021.jpg
END:VEVENT
END:VCALENDAR