BEGIN:VCALENDAR
VERSION:2.0
PRODID:-//wassenberg.com.de - ECPv6.15.20//NONSGML v1.0//EN
CALSCALE:GREGORIAN
METHOD:PUBLISH
X-ORIGINAL-URL:https://wassenberg.com.de
X-WR-CALDESC:Veranstaltungen für wassenberg.com.de
REFRESH-INTERVAL;VALUE=DURATION:PT1H
X-Robots-Tag:noindex
X-PUBLISHED-TTL:PT1H
BEGIN:VTIMEZONE
TZID:Europe/Berlin
BEGIN:DAYLIGHT
TZOFFSETFROM:+0100
TZOFFSETTO:+0200
TZNAME:CEST
DTSTART:20250330T010000
END:DAYLIGHT
BEGIN:STANDARD
TZOFFSETFROM:+0200
TZOFFSETTO:+0100
TZNAME:CET
DTSTART:20251026T010000
END:STANDARD
BEGIN:DAYLIGHT
TZOFFSETFROM:+0100
TZOFFSETTO:+0200
TZNAME:CEST
DTSTART:20260329T010000
END:DAYLIGHT
BEGIN:STANDARD
TZOFFSETFROM:+0200
TZOFFSETTO:+0100
TZNAME:CET
DTSTART:20261025T010000
END:STANDARD
BEGIN:DAYLIGHT
TZOFFSETFROM:+0100
TZOFFSETTO:+0200
TZNAME:CEST
DTSTART:20270328T010000
END:DAYLIGHT
BEGIN:STANDARD
TZOFFSETFROM:+0200
TZOFFSETTO:+0100
TZNAME:CET
DTSTART:20271031T010000
END:STANDARD
END:VTIMEZONE
BEGIN:VEVENT
DTSTART;VALUE=DATE:20261003
DTEND;VALUE=DATE:20261004
DTSTAMP:20260422T090113
CREATED:20250930T221641Z
LAST-MODIFIED:20251006T214344Z
UID:12300-1790985600-1791071999@wassenberg.com.de
SUMMARY:Tag der Deutschen Einheit
DESCRIPTION:Der 3. Oktober wurde als Tag der Deutschen Einheit im Einigungsvertrag 1990 zum gesetzlichen Feiertag in Deutschland bestimmt. Als deutscher Nationalfeiertag erinnert er an die deutsche Wiedervereinigung\, die „mit dem Wirksamwerden des Beitritts der Deutschen Demokratischen Republik zur Bundesrepublik Deutschland am 3. Oktober 1990“ „vollendet“ wurde. \nUm Mitternacht vom 2. auf den 3. Oktober traten die neu gegründeten Länder dem Geltungsbereich des Grundgesetzes nach Artikel 23 GG bei. Somit wurden Brandenburg\, Mecklenburg-Vorpommern\, Sachsen\, Sachsen-Anhalt und Thüringen sowie Berlin in seiner Gesamtheit die neuen Länder der Bundesrepublik Deutschland. \nTitelbild: Bundesarchiv\, Bild 183-1990-1003-400 / Grimm\, Peer / CC-BY-SA 3.0\, CC BY-SA 3.0 de
URL:https://wassenberg.com.de/veranstaltung/tag-der-deutschen-einheit/
LOCATION:Bundesrepublik Deutschland\, Deutschland
CATEGORIES:Feiertage / Gedenktage
ATTACH;FMTTYPE=image/jpeg:https://wassenberg.com.de/wp-content/uploads/2025/10/800_tag-der-dt-einheit.jpg
END:VEVENT
END:VCALENDAR