BEGIN:VCALENDAR
VERSION:2.0
PRODID:-//wassenberg.com.de - ECPv6.15.20//NONSGML v1.0//EN
CALSCALE:GREGORIAN
METHOD:PUBLISH
X-WR-CALNAME:wassenberg.com.de
X-ORIGINAL-URL:https://wassenberg.com.de
X-WR-CALDESC:Veranstaltungen für wassenberg.com.de
REFRESH-INTERVAL;VALUE=DURATION:PT1H
X-Robots-Tag:noindex
X-PUBLISHED-TTL:PT1H
BEGIN:VTIMEZONE
TZID:Europe/Berlin
BEGIN:DAYLIGHT
TZOFFSETFROM:+0100
TZOFFSETTO:+0200
TZNAME:CEST
DTSTART:20250330T010000
END:DAYLIGHT
BEGIN:STANDARD
TZOFFSETFROM:+0200
TZOFFSETTO:+0100
TZNAME:CET
DTSTART:20251026T010000
END:STANDARD
BEGIN:DAYLIGHT
TZOFFSETFROM:+0100
TZOFFSETTO:+0200
TZNAME:CEST
DTSTART:20260329T010000
END:DAYLIGHT
BEGIN:STANDARD
TZOFFSETFROM:+0200
TZOFFSETTO:+0100
TZNAME:CET
DTSTART:20261025T010000
END:STANDARD
BEGIN:DAYLIGHT
TZOFFSETFROM:+0100
TZOFFSETTO:+0200
TZNAME:CEST
DTSTART:20270328T010000
END:DAYLIGHT
BEGIN:STANDARD
TZOFFSETFROM:+0200
TZOFFSETTO:+0100
TZNAME:CET
DTSTART:20271031T010000
END:STANDARD
END:VTIMEZONE
BEGIN:VEVENT
DTSTART;VALUE=DATE:20260510
DTEND;VALUE=DATE:20260511
DTSTAMP:20260422T012821
CREATED:20250510T231214Z
LAST-MODIFIED:20250520T211636Z
UID:11660-1778371200-1778457599@wassenberg.com.de
SUMMARY:Muttertag
DESCRIPTION:Der Muttertag ist ein Tag zu Ehren der Mutter und der Mutterschaft. Er hat sich seit 1914\, beginnend in den Vereinigten Staaten\, in der westlichen Welt etabliert. Im deutschsprachigen Raum\, den USA und anderen Ländern wird er am zweiten Sonntag des Monats Mai gefeiert. \nMehr Info: de.wikipedia.org/wiki/Muttertag
URL:https://wassenberg.com.de/veranstaltung/muttertag/
LOCATION:Bundesrepublik Deutschland\, Deutschland
CATEGORIES:Kalenderereignisse
ATTACH;FMTTYPE=image/jpeg:https://wassenberg.com.de/wp-content/uploads/2025/05/800_muttertag.jpg
END:VEVENT
END:VCALENDAR