BEGIN:VCALENDAR
VERSION:2.0
PRODID:-//wassenberg.com.de - ECPv6.15.20//NONSGML v1.0//EN
CALSCALE:GREGORIAN
METHOD:PUBLISH
X-WR-CALNAME:wassenberg.com.de
X-ORIGINAL-URL:https://wassenberg.com.de
X-WR-CALDESC:Veranstaltungen für wassenberg.com.de
REFRESH-INTERVAL;VALUE=DURATION:PT1H
X-Robots-Tag:noindex
X-PUBLISHED-TTL:PT1H
BEGIN:VTIMEZONE
TZID:Europe/Berlin
BEGIN:DAYLIGHT
TZOFFSETFROM:+0100
TZOFFSETTO:+0200
TZNAME:CEST
DTSTART:20250330T010000
END:DAYLIGHT
BEGIN:STANDARD
TZOFFSETFROM:+0200
TZOFFSETTO:+0100
TZNAME:CET
DTSTART:20251026T010000
END:STANDARD
BEGIN:DAYLIGHT
TZOFFSETFROM:+0100
TZOFFSETTO:+0200
TZNAME:CEST
DTSTART:20260329T010000
END:DAYLIGHT
BEGIN:STANDARD
TZOFFSETFROM:+0200
TZOFFSETTO:+0100
TZNAME:CET
DTSTART:20261025T010000
END:STANDARD
BEGIN:DAYLIGHT
TZOFFSETFROM:+0100
TZOFFSETTO:+0200
TZNAME:CEST
DTSTART:20270328T010000
END:DAYLIGHT
BEGIN:STANDARD
TZOFFSETFROM:+0200
TZOFFSETTO:+0100
TZNAME:CET
DTSTART:20271031T010000
END:STANDARD
END:VTIMEZONE
BEGIN:VEVENT
DTSTART;TZID=Europe/Berlin:20260330T050000
DTEND;TZID=Europe/Berlin:20260425T233000
DTSTAMP:20260421T222139
CREATED:20260227T213639Z
LAST-MODIFIED:20260227T213732Z
UID:12887-1774846800-1777159800@wassenberg.com.de
SUMMARY:Sperrung des Rheinufertunnel vom 30. März bis 25. April 2026
DESCRIPTION:Für den Austausch zweier Ventilatoren muss der Rheinufertunnel vier Wochen lang – von Montag\, 30. März\, 5 Uhr\, bis zum Samstagnachmittag\, 25. April 2026 – für den Verkehr gesperrt werden\, da die Ventilatoren von zentraler Bedeutung für das Brandschutzkonzept und damit unverzichtbar für den Betrieb des Tunnels sind. \nMehr: Sperrung des Rheinufertunnel vom 30. März bis 25. April 2026 \nTitelbild: Pixelcrew – Eigenes Werk\, CC BY-SA 3.0
URL:https://wassenberg.com.de/veranstaltung/sperrung-des-rheinufertunnel-vom-30-maerz-bis-25-april-2026/
LOCATION:Düsseldorf\, Düsseldorf\, Nordrhein-Westfalen\, 40200\, Deutschland
CATEGORIES:Stadtbaustellen
ATTACH;FMTTYPE=image/jpeg:https://wassenberg.com.de/wp-content/uploads/2020/11/800_dus_rheinufertunnel.jpg
END:VEVENT
BEGIN:VEVENT
DTSTART;VALUE=DATE:20260420
DTEND;VALUE=DATE:20260427
DTSTAMP:20260421T222139
CREATED:20260318T210228Z
LAST-MODIFIED:20260415T194410Z
UID:13016-1776643200-1777247999@wassenberg.com.de
SUMMARY:Geschwindigkeitskontrollen Ordnungsamt (20. bis 26. Apr 2026)
DESCRIPTION:Das Ordnungsamt der Landeshauptstadt Düsseldorf führt an verschiedenen Stellen im Stadtgebiet Geschwindigkeitskontrollen durch. Eine Auswahl der Kontrollpunkte wird wöchentlich veröffentlicht; allerdings sind auch an anderen Stellen im Stadtgebiet Geschwindigkeits- oder Radarkontrollen möglich. Kurzlink: https://kurz.wassenberg.com.de/speed2 \nNachfolgend die angekündigten Geschwindigkeitskontrollen für die beiden kommenden Wochen: \n\nMontag\, 20. April: Benninghauser Straße\, Bertastraße\, Corellistraße\, Gerresheimer Landstraße\, Kaiserswerther Straße\, Neusalzer Weg\, Urdenbacher Allee\nDienstag\, 21. April: Flinger Broich\, Hansaallee\, Jülicher Straße\, Kaiserswerther Straße\, Klosterstraße\, Kürtenstraße\, Neusalzer Weg\nMittwoch\, 22. April: Aachener Straße\, Bilker Allee\, Buchenstraße\, In den Kötten\, Kaiserswerther Straße\, Neusalzer Weg\, Ria-Thiele-Straße\, Südring\nDonnerstag\, 23. April: Alte Landstraße\, Am Röttchen\, Grunerstraße\, Kaiserswerther Straße\, Neusalzer Weg\, Sulzbachstraße\, Zeppenheimer Weg\nFreitag\, 24. April: Aderkirchweg\, Kaiserswerther Straße\, Neusalzer Weg\, Palmenstraße\, Sohnstraße\, Tannenstraße\, Tersteegenstraße\, Volmerswerther Straße\nSamstag\, 25. April: Neusalzer Weg\, Volmerswerther Straße\nSonntag\, 26. April: Neusalzer Weg\, Volmerswerther Straße\n\nQuelle: Stadt Düsseldorf
URL:https://wassenberg.com.de/veranstaltung/geschwindigkeitskontrollen-ordnungsamt/
LOCATION:Stadtgebiet Düsseldorf\, Düsseldorf\, Nordrhein-Westfalen\, 40210\, Deutschland
CATEGORIES:Geschwindigkeitskontrollen
ATTACH;FMTTYPE=image/jpeg:https://wassenberg.com.de/wp-content/uploads/2020/11/800_tacho_radar.jpg
END:VEVENT
END:VCALENDAR