BEGIN:VCALENDAR
VERSION:2.0
PRODID:-//wassenberg.com.de - ECPv6.15.20//NONSGML v1.0//EN
CALSCALE:GREGORIAN
METHOD:PUBLISH
X-WR-CALNAME:wassenberg.com.de
X-ORIGINAL-URL:https://wassenberg.com.de
X-WR-CALDESC:Veranstaltungen für wassenberg.com.de
REFRESH-INTERVAL;VALUE=DURATION:PT1H
X-Robots-Tag:noindex
X-PUBLISHED-TTL:PT1H
BEGIN:VTIMEZONE
TZID:Europe/Berlin
BEGIN:DAYLIGHT
TZOFFSETFROM:+0100
TZOFFSETTO:+0200
TZNAME:CEST
DTSTART:20250330T010000
END:DAYLIGHT
BEGIN:STANDARD
TZOFFSETFROM:+0200
TZOFFSETTO:+0100
TZNAME:CET
DTSTART:20251026T010000
END:STANDARD
BEGIN:DAYLIGHT
TZOFFSETFROM:+0100
TZOFFSETTO:+0200
TZNAME:CEST
DTSTART:20260329T010000
END:DAYLIGHT
BEGIN:STANDARD
TZOFFSETFROM:+0200
TZOFFSETTO:+0100
TZNAME:CET
DTSTART:20261025T010000
END:STANDARD
BEGIN:DAYLIGHT
TZOFFSETFROM:+0100
TZOFFSETTO:+0200
TZNAME:CEST
DTSTART:20270328T010000
END:DAYLIGHT
BEGIN:STANDARD
TZOFFSETFROM:+0200
TZOFFSETTO:+0100
TZNAME:CET
DTSTART:20271031T010000
END:STANDARD
END:VTIMEZONE
BEGIN:VEVENT
DTSTART;VALUE=DATE:20260323
DTEND;VALUE=DATE:20260324
DTSTAMP:20260422T000132
CREATED:20260320T223135Z
LAST-MODIFIED:20260320T223135Z
UID:13028-1774224000-1774310399@wassenberg.com.de
SUMMARY:Apotheken-Protesttag am 23. März 2026: Viele Apotheken an Rhein und Ruhr geschlossen
DESCRIPTION:Die Apotheken in den Regierungsbezirken Köln und Düsseldorf beteiligen sich am bundesweiten Protesttag der Apothekerschaft am 23. März 2026 unter dem Motto „Apothekensterben stoppen – Koalitionsvertrag umsetzen“ und fordern schnelle wirtschaftliche Stabilisierung. Hintergrund sind die seit Jahren unzureichenden wirtschaftlichen Rahmenbedingungen für Apotheken sowie die anhaltende Schließungswelle in Deutschland. \nDer Protest dient dazu\, die Bundesregierung und Bundesgesundheitsministerin Warken darin zu bestärken\, die zugesagte wirtschaftliche Stabilisierung der Vor-Ort-Apotheken zur Sicherstellung der Versorgung der Bürgerinnen und Bürger vor Ort schnell umzusetzen. \n„Am Protesttag bleiben viele Apotheken in an Rhein und Ruhr geschlossen. Die Arzneimittelversorgung der Bevölkerung wird über die diensthabenden Notdienst-Apotheken sichergestellt. Patientinnen und Patienten wird empfohlen\, Rezepte möglichst vor dem Protesttag einzulösen“\, erklären Thomas Preis\, Vorsitzender des Apothekerverbandes Nordrhein\, und Dr. Armin Hoffmann\, Präsident der Apothekerkammer Nordrhein. \nBundesweiter Protest auch mit zentraler Kundgebung in der Landeshauptstadt Düsseldorf\nBundesweit wird der Protest von zentralen Kundgebungen in Berlin\, Düsseldorf\, Hannover und München begleitet. Auch Apothekerinnen\, Apotheker und Apothekenteams aus den Städten und Gemeinden in den Regierungsbezirken Düsseldorf und Köln beteiligen sich\, um gemeinsam mit der gesamten Apothekerschaft den Druck auf die Bundesregierung zu erhöhen. Die Botschaft ist eindeutig: Wer die Vor-Ort-Apotheken weiter wirtschaftlich ausbluten lässt\, gefährdet die flächendeckende\, sichere und schnelle Arzneimittelversorgung für Bürgerinnen und Bürger“\, so Preis.\nPolitik darf nicht länger zögern \nAnlass des Protesttags ist die aktuelle Beratung des Apothekenversorgungs-Weiterentwicklungsgesetz (ApoVWG) im Deutschen Bundestag. Aus Sicht der Apothekerschaft reicht es jedoch nicht länger\, die Krise nur zu beschreiben. Thomas Preis\, Präsident der Bundesvereinigung Deutscher Apothekerverbände (ABDA)\, und Dr. Armin Hoffmann\, Präsident der Bundesapothekerkammer (BAK)\, begrüßen die parlamentarische Befassung\, machen aber zugleich deutlich\, wie dramatisch die Lage inzwischen ist: \n„Nach 13 Jahren Honorarstillstand setzt sich das Apothekensterben ungebremst fort\, mittlerweile schließt in Deutschland etwa alle 20 Stunden eine Apotheke dauerhaft. Die Wege für unsere Patientinnen und Patienten zur nächsten Apotheke werden damit immer weiter und komplizierter. Es ist daher nur folgerichtig\, dass die Regierungsfraktionen in ihrem Koalitionsvertrag eine wirtschaftliche Stärkung der Apotheken festgelegt haben. Jetzt muss aber auch schnell ohne jede Verzögerung und ohne Wenn und Aber die Umsetzung erfolgen. Sonst wird das fatale Folgen für die Versorgung der Menschen haben.“ \nHonorare stagnieren\, Kosten explodieren\nViele Apotheken arbeiten seit Jahren auf wirtschaftlich nicht mehr tragfähiger Grundlage. Das gesetzlich festgelegte Honorar für verschreibungspflichtige Arzneimittel\, die rund 85 Prozent des Umsatzes ausmachen\, wurde seit 2004 nur einmal vor 13 Jahren um rund 3 Prozent angepasst. Allein in den letzten 13 Jahren sind die Betriebskosten – vor allem für Personal\, Energie\, Miete\, Digitalisierung und regulatorische Anforderungen – jedoch um rund 65 Prozent gestiegen. Immer mehr Apotheken rutschen daher in die roten Zahlen und müssen schließen.\nApothekensterben erreicht Städte und Ballungsräume \nSeit 2013 haben bundesweit rund 20 Prozent der Apotheken geschlossen. Die Folgen treffen inzwischen nicht mehr nur den ländlichen Raum\, sondern zunehmend auch Städte und Ballungsräume. \nEs geht um die Zukunft der Arzneimittelversorgung\n„Mit unserem Protest stärken wir der Bundesregierung den Rücken\, damit die angekündigte Apothekenstärkung jetzt schnell umgesetzt wird“\, erklärt Dr. Armin Hoffmann. „Es geht nicht um die Interessen einzelner Betriebe\, sondern um die Zukunft einer sicheren\, persönlichen und flächendeckenden Arzneimittelversorgung für alle Bürgerinnen und Bürger in unserer Region“\, so Thomas Preis. \nQuelle: Apothekerkammer Nordrhein
URL:https://wassenberg.com.de/veranstaltung/apotheken-protesttag-23-maerz-2026/
LOCATION:Nordrhein-Westfalen landesweit\, Nordrhein-Westfalen\, Germany
CATEGORIES:Streiks
ATTACH;FMTTYPE=image/jpeg:https://wassenberg.com.de/wp-content/uploads/2026/03/800_apotheken-retten.jpg
END:VEVENT
END:VCALENDAR