BEGIN:VCALENDAR
VERSION:2.0
PRODID:-//wassenberg.com.de - ECPv6.15.20//NONSGML v1.0//EN
CALSCALE:GREGORIAN
METHOD:PUBLISH
X-WR-CALNAME:wassenberg.com.de
X-ORIGINAL-URL:https://wassenberg.com.de
X-WR-CALDESC:Veranstaltungen für wassenberg.com.de
REFRESH-INTERVAL;VALUE=DURATION:PT1H
X-Robots-Tag:noindex
X-PUBLISHED-TTL:PT1H
BEGIN:VTIMEZONE
TZID:Europe/Berlin
BEGIN:DAYLIGHT
TZOFFSETFROM:+0100
TZOFFSETTO:+0200
TZNAME:CEST
DTSTART:20240331T010000
END:DAYLIGHT
BEGIN:STANDARD
TZOFFSETFROM:+0200
TZOFFSETTO:+0100
TZNAME:CET
DTSTART:20241027T010000
END:STANDARD
BEGIN:DAYLIGHT
TZOFFSETFROM:+0100
TZOFFSETTO:+0200
TZNAME:CEST
DTSTART:20250330T010000
END:DAYLIGHT
BEGIN:STANDARD
TZOFFSETFROM:+0200
TZOFFSETTO:+0100
TZNAME:CET
DTSTART:20251026T010000
END:STANDARD
BEGIN:DAYLIGHT
TZOFFSETFROM:+0100
TZOFFSETTO:+0200
TZNAME:CEST
DTSTART:20260329T010000
END:DAYLIGHT
BEGIN:STANDARD
TZOFFSETFROM:+0200
TZOFFSETTO:+0100
TZNAME:CET
DTSTART:20261025T010000
END:STANDARD
END:VTIMEZONE
BEGIN:VEVENT
DTSTART;VALUE=DATE:20250808
DTEND;VALUE=DATE:20250813
DTSTAMP:20260424T152308
CREATED:20250709T151754Z
LAST-MODIFIED:20250709T151831Z
UID:12013-1754611200-1755043199@wassenberg.com.de
SUMMARY:Düsseldorf-Rath: Schützenfest und Kirmes 2025
DESCRIPTION:Es ist wieder soweit – Rath feiert Schützenfest und Kirmes 2025\, das Highlight des Sommers in Düsseldorf-Rath. Die Kirmes findet schon ab Freitag\, den 8. August statt und dauert bis Montag an.
URL:https://wassenberg.com.de/veranstaltung/duesseldorf-rath-schuetzenfest-und-kirmes/
LOCATION:Schützenplatz Düsseldorf-Rath\, Rather Broich 137\, Düsseldorf\, Nordrhein-Westfalen\, 40472\, Germany
CATEGORIES:Volksfeste
ATTACH;FMTTYPE=image/jpeg:https://wassenberg.com.de/wp-content/uploads/2025/07/rath_schuetzenfest-2025.jpg
END:VEVENT
END:VCALENDAR